BEGIN:VCALENDAR
PRODID:-//climbIT//Tourenangebot//DE
VERSION:2.0
METHOD:PUBLISH
BEGIN:VEVENT
UID:tour-5bb86cab-e8e4-4f2d-809f-0184ac12000e@touren.sac-bodan.ch
DTSTAMP:20260420T085029
SEQUENCE:0
CLASS:PUBLIC
TRANSP:OPAQUE
DTSTART;VALUE=DATE:20191020
DTEND;VALUE=DATE:20191021
SUMMARY:Sektion Bodan: MBT-Herbsttour
DESCRIPTION:Nach deiner Anmeldung und bei jeder Statusänderung wird ein Kalendereintrag per E-Mail verschickt.\n\nAktuelle Informationen\nTourenlink: https://touren.sac-bodan.ch/tours/view/5bb86cab-e8e4-4f2d-809f-0184ac12000e\n\n\nDein Tourenangebot Team
END:VEVENT
END:VCALENDAR