BEGIN:VCALENDAR
PRODID:-//climbIT//Tourenangebot//DE
VERSION:2.0
METHOD:PUBLISH
BEGIN:VEVENT
UID:tour-5dacaf2b-d698-4cf3-b3c2-03bcac12000e@touren.sac-bodan.ch
DTSTAMP:20260421T220510
SEQUENCE:0
CLASS:PUBLIC
TRANSP:OPAQUE
DTSTART;VALUE=DATE:20200327
DTEND;VALUE=DATE:20200329
SUMMARY:Sektion Bodan: Länta Rheinwaldhorn Freitag Samstag
DESCRIPTION:Nach deiner Anmeldung und bei jeder Statusänderung wird ein Kalendereintrag per E-Mail verschickt.\n\nAktuelle Informationen\nTourenlink: https://touren.sac-bodan.ch/tours/view/5dacaf2b-d698-4cf3-b3c2-03bcac12000e\n\n\nDein Tourenangebot Team
END:VEVENT
END:VCALENDAR