BEGIN:VCALENDAR
PRODID:-//climbIT//Tourenangebot//DE
VERSION:2.0
METHOD:PUBLISH
BEGIN:VEVENT
UID:tour-5db3167e-55f0-4f84-8ee5-03bcac12000e@touren.sac-bodan.ch
DTSTAMP:20260420T071450
SEQUENCE:0
CLASS:PUBLIC
TRANSP:OPAQUE
DTSTART;VALUE=DATE:20191227
DTEND;VALUE=DATE:20191228
SUMMARY:Sektion Bodan: Freitagsskitour (Wochentagsskitour)!
DESCRIPTION:Nach deiner Anmeldung und bei jeder Statusänderung wird ein Kalendereintrag per E-Mail verschickt.\n\nAktuelle Informationen\nTourenlink: https://touren.sac-bodan.ch/tours/view/5db3167e-55f0-4f84-8ee5-03bcac12000e\n\n\nDein Tourenangebot Team
END:VEVENT
END:VCALENDAR