BEGIN:VCALENDAR
PRODID:-//climbIT//Tourenangebot//DE
VERSION:2.0
METHOD:PUBLISH
BEGIN:VEVENT
UID:tour-e332bb0a-8ee4-434d-86cf-1e78b3d500f0@touren.sac-bodan.ch
DTSTAMP:20260425T192229
SEQUENCE:0
CLASS:PUBLIC
TRANSP:OPAQUE
DTSTART;VALUE=DATE:20241211
DTEND;VALUE=DATE:20241212
SUMMARY:Sektion Bodan: Lawinenkurs "online" BASIC
DESCRIPTION:Nach deiner Anmeldung und bei jeder Statusänderung wird ein Kalendereintrag per E-Mail verschickt.\n\nAktuelle Informationen\nTourenlink: https://touren.sac-bodan.ch/tours/view/e332bb0a-8ee4-434d-86cf-1e78b3d500f0\n\n\nDein Tourenangebot Team
END:VEVENT
END:VCALENDAR